Workbook

Sheet Instructions
P48: Y2 Tab: July 1, 2026 - June 30, 2027
Q50: Select your funding source
B51: 22.1.1 - Information Dissemination - Universal: Direct-EBP | O51: State | P51: (Jul 1-Jun 30) | Q51: General Fund State - State (GFS)
B52: 22.1.2 - Information Dissemination - Universal: Indirect-EBP | O52: State | P52: (Jul 1-Jun 30) | Q52: Dedicated Cannabis Account - 315 - XZA - State (DCA - 315 - XZA)
B53: 22.1.3 - Information Dissemination - Selective-EBP | O53: State | P53: (Jul 1-Jun 30) | Q53: Dedicated Cannabis Account - 315 - Base - State (DCA - 315 - Base)
B54: 22.1.4 - Information Dissemination - Indicated-EBP | O54: Federal | P54: (Jul 1-Jun 30) | Q54: Opioid Settlement Funds - 27W - RMA2 - State (OSF - 27W - RMA2)
B55: 22.1.5 - Information Dissemination - Universal: Direct | O55: Federal | P55: (Jul 1-Jun 30) | Q55: Opioid Settlement Funds - 27W - XZA - State (OSF - 27W - XZA)
B56: 22.1.6 - Information Dissemination - Universal: Indirect | O56: Federal | P56: (Jul 1-Jun 30) | Q56: Opioid Settlement Funds - 27W - DS9A- State (OSF - 27W - DS9A)
B57: 22.1.7 - Information Dissemination - Selective | O57: Federal | P57: (Jul1-Sept30) | Q57: Substance Use Prevention Treatment Recovery Services Carryover (previously SABG) - Federal (SUPTRS CO)
B58: 22.1.8 - Information Dissemination - Indicated | O58: Federal | P58: (Jul 1-Jun 30) | Q58: Substance Use Prevention Treatment Recovery Services (previously SABG) - Federal (SUPTRS)
B59: 22.2.1 - Education - Universal: Direct-EBP | O59: Federal | P59: (July 1- Sept 29) | Q59: State Opioid Response IV Y2 - State (SOR IV Y2)
B60: 22.2.2 - Education - Universal: Indirect-EBP | O60: Federal | P60: (July 1- Sept 29) | Q60: State Opioid Response IV Y1 Carryover - State (SOR IV Y1 CO)
B61: 22.2.3 - Education - Selective-EBP | O61: Federal | P61: (Sept 30-Jun 30) | Q61: State Opioid Response IV Y3 - State (SOR IV Y3)
B62: 22.2.4 - Education - Indicated-EBP | O62: Federal | P62: (July 1- Sept 29) | Q62: Partnership for Success Y3 - Federal (PFS Y3)
... B64: 22.2.6 - Education - Universal: Indirect | O64: Federal | P64: (Sept 30-Jun 30) | Q64: Partnership for Success Y4 - Federal (PFS Y4)
B65: 22.2.7 - Education - Selective
B66: 22.2.8 - Education - Indicated
B67: 22.3.1 - Alternatives - Universal: Direct-EBP
B68: 22.3.2 - Alternatives - Universal: Indirect-EBP
B69: 22.3.3 - Alternatives - Selective-EBP
B70: 22.3.4 - Alternatives - Indicated-EBP
B71: 22.3.5 - Alternatives - Universal: Direct
B72: 22.3.6 - Alternatives - Universal: Indirect
B73: 22.3.7 - Alternatives - Selective
B74: 22.3.8 - Alternatives - Indicated
B75: 22.5.1 - Community Based Process - Universal: Direct-EBP
B76: 22.5.2 - Community Based Process - Universal: Indirect-EBP
... B94: 22.6.6 - Environmental - Universal: Indirect

Sheet Y2 Budget
A1: [Type in Coalition Name here] | F1: YEAR TWO*: | G1: July 1, 2026 - June 30, 2027
A3: [Type in Community name here] | F3: Date Budget Last Revised: | K3: OPTIONAL: | M3: Optional: Additional Funding Sources The Coalition Accesses **
K5: Any activities from your strategic plan the coalition would implement if they had additional funding? This is identified by the TBD funding source in the Action Plan legend.
A6: Category & Line Item | B6: BARS - CSAP - IOM | D6: Select your funding source | E6: Select your funding source | F6: Select your funding source | G6: Select your funding source | H6: Select your funding source | I6: SUBTOTAL Possible DBHR Funding Sources | M6: Drug Free Communities (DFC) | N6: Other Funds | O6: Match Funds | P6: Additional Funding Sources Subtotals
D7: {=_xlfn.IFS(D6="General Fund State - State (GFS)","(July 1-Jun 30)",D6="Substance Use Prevention Treatment Recovery Services Carryover (previously SABG) - Federal (SUPTRS CO) ","(July1-Sept30)",D6="Substance Use Prevention Treatment Recovery Services (previously SABG) - Federal (SUPTRS)","(July 1-Jun 30)",D6="Dedicated Cannabis Account - 315 - XZA - State (DCA - 315 - XZA) ","(July 1-June 30)",D6="Dedicated Cannabis Account - 315 - Base - State (DCA - 315 - Base) ","(July 1-Jun 30)",D6="Opioid Settlement Funds - 27W - RMA2 - State (OSF - 27W - RMA2) ","(July 1-June 30)",D6="Opioid Settlement Funds - 27W - XZA - State (OSF - 27W - XZA) ","(July 1-Jun 30)",D6="Opioid Settlement Funds - 27W - DS9A- State (OSF - 27W - DS9A) ","(July 1-June 30)",D6="Partnership for Success Y2 Carryover - Federal (PFS Y2 CO)","(July1-Sept29)",D6="Partnership for Success Y3 - Federal (PFS Y3)","(July1-Sept29)", D6="Partnership for Success Y4 - Federal (PFS Y4)","(Sept30-Jun30)",D6="State Opioid Response IV Y1 Carryover - State (SOR IV Y1 CO)","(July1-Sept29)", D6="State Opioid Response IV Y2 - State (SOR IV Y2)","(July1-Sept29)",D6="State Opioid Response IV Y3 - State (SOR IV Y3)","(Sept30-Jun30)",D6="Select your funding source","")} | E7: {=_xlfn.IFS(E6="General Fund State - State (GFS)","(July 1-Jun 30)",E6="Substance Use Prevention Treatment Recovery Services Carryover (previously SABG) - Federal (SUPTRS CO) ","(July1-Sept30)",E6="Substance Use Prevention Treatment Recovery Services (previously SABG) - Federal (SUPTRS)","(July 1-Jun 30)",E6="Dedicated Cannabis Account - 315 - XZA - State (DCA - 315 - XZA) ","(July 1-June 30)",E6="Dedicated Cannabis Account - 315 - Base - State (DCA - 315 - Base) ","(July 1-Jun 30)",E6="Opioid Settlement Funds - 27W - RMA2 - State (OSF - 27W - RMA2) ","(July 1-June 30)",E6="Opioid Settlement Funds - 27W - XZA - State (OSF - 27W - XZA) ","(July 1-Jun 30)",E6="Opioid Settlement Funds - 27W - DS9A- State (OSF - 27W - DS9A) ","(July 1-June 30)",E6="Partnership for Success Y2 Carryover - Federal (PFS Y2 CO)","(July1-Sept29)",E6="Partnership for Success Y3 - Federal (PFS Y3)","(July1-Sept29)", E6="Partnership for Success Y4 - Federal (PFS Y4)","(Sept30-Jun30)",E6="State Opioid Response IV Y1 Carryover - State (SOR IV Y1 CO)","(July1-Sept29)", E6="State Opioid Response IV Y2 - State (SOR IV Y2)","(July1-Sept29)",E6="State Opioid Response IV Y3 - State (SOR IV Y3)","(Sept30-Jun30)",E6="Select your funding source","")} | F7: {=_xlfn.IFS(F6="General Fund State - State (GFS)","(July 1-Jun 30)",F6="Substance Use Prevention Treatment Recovery Services Carryover (previously SABG) - Federal (SUPTRS CO) ","(July1-Sept30)",F6="Substance Use Prevention Treatment Recovery Services (previously SABG) - Federal (SUPTRS)","(July 1-Jun 30)",F6="Dedicated Cannabis Account - 315 - XZA - State (DCA - 315 - XZA) ","(July 1-June 30)",F6="Dedicated Cannabis Account - 315 - Base - State (DCA - 315 - Base) ","(July 1-Jun 30)",F6="Opioid Settlement Funds - 27W - RMA2 - State (OSF - 27W - RMA2) ","(July 1-June 30)",F6="Opioid Settlement Funds - 27W - XZA - State (OSF - 27W - XZA) ","(July 1-Jun 30)",F6="Opioid Settlement Funds - 27W - DS9A- State (OSF - 27W - DS9A) ","(July 1-June 30)",F6="Partnership for Success Y2 Carryover - Federal (PFS Y2 CO)","(July1-Sept29)",F6="Partnership for Success Y3 - Federal (PFS Y3)","(July1-Sept29)", F6="Partnership for Success Y4 - Federal (PFS Y4)","(Sept30-Jun30)",F6="State Opioid Response IV Y1 Carryover - State (SOR IV Y1 CO)","(July1-Sept29)", F6="State Opioid Response IV Y2 - State (SOR IV Y2)","(July1-Sept29)",F6="State Opioid Response IV Y3 - State (SOR IV Y3)","(Sept30-Jun30)",F6="Select your funding source","")} | G7: {=_xlfn.IFS(G6="General Fund State - State (GFS)","(July 1-Jun 30)",G6="Substance Use Prevention Treatment Recovery Services Carryover (previously SABG) - Federal (SUPTRS CO) ","(July1-Sept30)",G6="Substance Use Prevention Treatment Recovery Services (previously SABG) - Federal (SUPTRS)","(July 1-Jun 30)",G6="Dedicated Cannabis Account - 315 - XZA - State (DCA - 315 - XZA) ","(July 1-June 30)",G6="Dedicated Cannabis Account - 315 - Base - State (DCA - 315 - Base) ","(July 1-Jun 30)",G6="Opioid Settlement Funds - 27W - RMA2 - State (OSF - 27W - RMA2) ","(July 1-June 30)",G6="Opioid Settlement Funds - 27W - XZA - State (OSF - 27W - XZA) ","(July 1-Jun 30)",G6="Opioid Settlement Funds - 27W - DS9A- State (OSF - 27W - DS9A) ","(July 1-June 30)",G6="Partnership for Success Y2 Carryover - Federal (PFS Y2 CO)","(July1-Sept29)",G6="Partnership for Success Y3 - Federal (PFS Y3)","(July1-Sept29)", G6="Partnership for Success Y4 - Federal (PFS Y4)","(Sept30-Jun30)",G6="State Opioid Response IV Y1 Carryover - State (SOR IV Y1 CO)","(July1-Sept29)", G6="State Opioid Response IV Y2 - State (SOR IV Y2)","(July1-Sept29)",G6="State Opioid Response IV Y3 - State (SOR IV Y3)","(Sept30-Jun30)",G6="Select your funding source","")} | H7: {=_xlfn.IFS(H6="General Fund State - State (GFS)","(July 1-Jun 30)",H6="Substance Use Prevention Treatment Recovery Services Carryover (previously SABG) - Federal (SUPTRS CO) ","(July1-Sept30)",H6="Substance Use Prevention Treatment Recovery Services (previously SABG) - Federal (SUPTRS)","(July 1-Jun 30)",H6="Dedicated Cannabis Account - 315 - XZA - State (DCA - 315 - XZA) ","(July 1-June 30)",H6="Dedicated Cannabis Account - 315 - Base - State (DCA - 315 - Base) ","(July 1-Jun 30)",H6="Opioid Settlement Funds - 27W - RMA2 - State (OSF - 27W - RMA2) ","(July 1-June 30)",H6="Opioid Settlement Funds - 27W - XZA - State (OSF - 27W - XZA) ","(July 1-Jun 30)",H6="Opioid Settlement Funds - 27W - DS9A- State (OSF - 27W - DS9A) ","(July 1-June 30)",H6="Partnership for Success Y2 Carryover - Federal (PFS Y2 CO)","(July1-Sept29)",H6="Partnership for Success Y3 - Federal (PFS Y3)","(July1-Sept29)", H6="Partnership for Success Y4 - Federal (PFS Y4)","(Sept30-Jun30)",H6="State Opioid Response IV Y1 Carryover - State (SOR IV Y1 CO)","(July1-Sept29)", H6="State Opioid Response IV Y2 - State (SOR IV Y2)","(July1-Sept29)",H6="State Opioid Response IV Y3 - State (SOR IV Y3)","(Sept30-Jun30)",H6="Select your funding source","")}
A8: Admin | B8: 11.1 - Administration
A9: 15% Allowable Admin Maximum DBHR Allocation (may be divided between contractor and subcontractors). | D9: 0 | E9: 0 | F9: 0 | G9: 0 | H9: 0 | I9: =SUM(C9:H9) -> 0 | K9: 0 | M9: 0 | N9: 0 | O9: 0 | P9: =SUM(M9:O9) -> 0
A10: Salary | B10: 22.5.1 - Community Based Process - Universal: Direct-EBP
A11: Community Coalition Coordinator: [name] | D11: 0 | E11: 0 | F11: 0 | G11: 0 | H11: 0 | I11: =SUM(C11:H11) -> 0 | K11: 0 | M11: 0 | N11: 0 | O11: 0 | P11: =SUM(M11:O11) -> 0
A12: Community Coalition Coordinator: [name] | D12: 0 | E12: 0 | F12: 0 | G12: 0 | H12: 0 | I12: =SUM(C12:H12) -> 0 | K12: 0 | M12: 0 | N12: 0 | O12: 0 | P12: =SUM(M12:O12) -> 0
A13: Subtotal | D13: =SUM(D11:D12) -> 0 | E13: =SUM(E11:E12) -> 0 | F13: =SUM(F11:F12) -> 0 | G13: =SUM(G11:G12) -> 0 | H13: =SUM(H11:H12) -> 0 | I13: =SUM(C13:H13) -> 0 | K13: =SUM(K11:K12) -> 0 | M13: =SUM(M11:M12) -> 0 | N13: =SUM(N11:N12) -> 0 | O13: =SUM(O11:O12) -> 0 | P13: =SUM(M13:O13) -> 0
A14: Benefits | B14: 22.5.1 - Community Based Process - Universal: Direct-EBP
A15: Community Coalition Coordinator: [name] | D15: 0 | E15: 0 | F15: 0 | G15: 0 | H15: 0 | I15: =SUM(C15:H15) -> 0 | K15: 0 | M15: 0 | N15: 0 | O15: 0 | P15: =SUM(M15:O15) -> 0
A16: Community Coalition Coordinator: [name} | D16: 0 | E16: 0 | F16: 0 | G16: 0 | H16: 0 | I16: =SUM(C16:H16) -> 0 | K16: 0 | M16: 0 | N16: 0 | O16: 0 | P16: =SUM(M16:O16) -> 0
A17: Subtotal | D17: =SUM(D15:D16) -> 0 | E17: =SUM(E15:E16) -> 0 | F17: =SUM(F15:F16) -> 0 | G17: =SUM(G15:G16) -> 0 | H17: =SUM(H15:H16) -> 0 | I17: =SUM(C17:H17) -> 0 | K17: =SUM(K15:K16) -> 0 | M17: =SUM(M15:M16) -> 0 | N17: =SUM(N15:N16) -> 0 | O17: =SUM(O15:O16) -> 0 | P17: =SUM(M17:O17) -> 0
A18: Coordinator Travel/ Professional Development | B18: 22.5.1 - Community Based Process - Universal: Direct-EBP
A19: Mileage | D19: 0 | E19: 0 | F19: 0 | G19: 0 | H19: 0 | I19: =SUM(C19:H19) -> 0 | K19: 0 | M19: 0 | N19: 0 | O19: 0 | P19: =SUM(M19:O19) -> 0
A20: Air | D20: 0 | E20: 0 | F20: 0 | G20: 0 | H20: 0 | I20: =SUM(C20:H20) -> 0 | K20: 0 | M20: 0 | N20: 0 | O20: 0 | P20: =SUM(M20:O20) -> 0
A21: Hotel | D21: 0 | E21: 0 | F21: 0 | G21: 0 | H21: 0 | I21: =SUM(C21:H21) -> 0 | K21: 0 | M21: 0 | N21: 0 | O21: 0 | P21: =SUM(M21:O21) -> 0
A22: Lodging | D22: 0 | E22: 0 | F22: 0 | G22: 0 | H22: 0 | I22: =SUM(C22:H22) -> 0 | K22: 0 | M22: 0 | N22: 0 | O22: 0 | P22: =SUM(M22:O22) -> 0
A23: Transportation | D23: 0 | E23: 0 | F23: 0 | G23: 0 | H23: 0 | I23: =SUM(C23:H23) -> 0 | K23: 0 | M23: 0 | N23: 0 | O23: 0 | P23: =SUM(M23:O23) -> 0
A24: Registration fees | D24: 0 | E24: 0 | F24: 0 | G24: 0 | H24: 0 | I24: =SUM(C24:H24) -> 0 | K24: 0 | M24: 0 | N24: 0 | O24: 0 | P24: =SUM(M24:O24) -> 0
A25: Per diem | D25: 0 | E25: 0 | F25: 0 | G25: 0 | H25: 0 | I25: =SUM(C25:H25) -> 0 | K25: 0 | M25: 0 | N25: 0 | O25: 0 | P25: =SUM(M25:O25) -> 0
A26: Subtotal | D26: =SUM(D19:D25) -> 0 | E26: =SUM(E19:E25) -> 0 | F26: =SUM(F19:F25) -> 0 | G26: =SUM(G19:G25) -> 0 | H26: =SUM(H19:H25) -> 0 | I26: =SUM(C26:H26) -> 0 | K26: =SUM(K19:K25) -> 0 | M26: =SUM(M19:M25) -> 0 | N26: =SUM(N19:N25) -> 0 | O26: =SUM(O19:O25) -> 0 | P26: =SUM(M26:O26) -> 0
A27: Programs/Strategies
A28: Community Coalition: Universal Direct | B28: 22.5.1 - Community Based Process - Universal: Direct
A29: Travel | D29: 0 | E29: 0 | F29: 0 | G29: 0 | H29: 0 | I29: =SUM(C29:H29) -> 0 | K29: 0 | M29: 0 | N29: 0 | O29: 0 | P29: =SUM(M29:O29) -> 0
A30: Professional Services [name] | D30: 0 | E30: 0 | F30: 0 | G30: 0 | H30: 0 | I30: =SUM(C30:H30) -> 0 | K30: 0 | M30: 0 | N30: 0 | O30: 0 | P30: =SUM(M30:O30) -> 0
A31: Program Supplies | D31: 0 | E31: 0 | F31: 0 | G31: 0 | H31: 0 | I31: =SUM(C31:H31) -> 0 | K31: 0 | M31: 0 | N31: 0 | O31: 0 | P31: =SUM(M31:O31) -> 0
A32: Program Printing | D32: 0 | E32: 0 | F32: 0 | G32: 0 | H32: 0 | I32: =SUM(C32:H32) -> 0 | K32: 0 | M32: 0 | N32: 0 | O32: 0 | P32: =SUM(M32:O32) -> 0
A33: Subtotal | D33: =SUM(D29:D32) -> 0 | E33: =SUM(E29:E32) -> 0 | F33: =SUM(F29:F32) -> 0 | G33: =SUM(G29:G32) -> 0 | H33: =SUM(H29:H32) -> 0 | I33: =SUM(C33:H33) -> 0 | K33: =SUM(K29:K32) -> 0 | M33: =SUM(M29:M32) -> 0 | N33: =SUM(N29:N32) -> 0 | O33: =SUM(O29:O32) -> 0 | P33: =SUM(M33:O33) -> 0
A34: Program Name | B34: Select BARS - CSAP - IOM
A35: Salary [name] | D35: 0 | E35: 0 | F35: 0 | G35: 0 | H35: 0 | I35: =SUM(C35:H35) -> 0 | K35: 0 | M35: 0 | N35: 0 | O35: 0 | P35: =SUM(M35:O35) -> 0
A36: Benefits | D36: 0 | E36: 0 | F36: 0 | G36: 0 | H36: 0 | I36: =SUM(C36:H36) -> 0 | K36: 0 | M36: 0 | N36: 0 | O36: 0 | P36: =SUM(M36:O36) -> 0
A37: Travel | D37: 0 | E37: 0 | F37: 0 | G37: 0 | H37: 0 | I37: =SUM(C37:H37) -> 0 | K37: 0 | M37: 0 | N37: 0 | O37: 0 | P37: =SUM(M37:O37) -> 0
A38: Professional Services [name] | D38: 0 | E38: 0 | F38: 0 | G38: 0 | H38: 0 | I38: =SUM(C38:H38) -> 0 | K38: 0 | M38: 0 | N38: 0 | O38: 0 | P38: =SUM(M38:O38) -> 0
A39: Program Supplies or Printing | D39: 0 | E39: 0 | F39: 0 | G39: 0 | H39: 0 | I39: =SUM(C39:H39) -> 0 | K39: 0 | M39: 0 | N39: 0 | O39: 0 | P39: =SUM(M39:O39) -> 0
A40: Training Costs | D40: 0 | E40: 0 | F40: 0 | G40: 0 | H40: 0 | I40: =SUM(C40:H40) -> 0 | K40: 0 | M40: 0 | N40: 0 | O40: 0 | P40: =SUM(M40:O40) -> 0
A41: Subtotal | D41: =SUM(D35:D40) -> 0 | E41: =SUM(E35:E40) -> 0 | F41: =SUM(F35:F40) -> 0 | G41: =SUM(G35:G40) -> 0 | H41: =SUM(H35:H40) -> 0 | I41: =SUM(C41:H41) -> 0 | K41: =SUM(K35:K40) -> 0 | M41: =SUM(M35:M40) -> 0 | N41: =SUM(N35:N40) -> 0 | O41: =SUM(O35:O40) -> 0 | P41: =SUM(M41:O41) -> 0
A42: Program Name | B42: Select BARS - CSAP - IOM
...

Sheet Summary for Printing
A2: CATEGORY | D2: ='Y2 Budget'!D127 | E2: ='Y2 Budget'!E127 | F2: ='Y2 Budget'!F127 | G2: ='Y2 Budget'!G127 | H2: ='Y2 Budget'!H127 | I2: SUBTOTALS | K2: OPTIONAL: TBD additional funding | M2: Drug Free Communities (DFC) | N2: Other Funds | O2: Match Funds | P2: SUBTOTALS
A3: Administration | D3: =SUM('Y2 Budget'!D128) -> 0 | E3: =SUM('Y2 Budget'!E128) -> 0 | F3: =SUM('Y2 Budget'!F128) -> 0 | G3: =SUM('Y2 Budget'!G128) -> 0 | H3: =SUM('Y2 Budget'!H128) -> 0 | I3: =SUM(C3:H3) -> 0 | K3: =SUM('Y2 Budget'!K128) -> 0 | M3: =SUM('Y2 Budget'!M128) -> 0 | N3: =SUM('Y2 Budget'!N128) -> 0 | O3: =SUM('Y2 Budget'!O128) -> 0 | P3: =SUM(M3:O3) -> 0
A4: Salary and Benefits | D4: =SUM('Y2 Budget'!D129) -> 0 | E4: =SUM('Y2 Budget'!E129) -> 0 | F4: =SUM('Y2 Budget'!F129) -> 0 | G4: =SUM('Y2 Budget'!G129) -> 0 | H4: =SUM('Y2 Budget'!H129) -> 0 | I4: =SUM(C4:H4) -> 0 | K4: =SUM('Y2 Budget'!K129) -> 0 | M4: =SUM('Y2 Budget'!M129) -> 0 | N4: =SUM('Y2 Budget'!N129) -> 0 | O4: =SUM('Y2 Budget'!O129) -> 0 | P4: =SUM(M4:O4) -> 0
A5: Coordinator Training/Travel | D5: =SUM('Y2 Budget'!D130) -> 0 | E5: =SUM('Y2 Budget'!E130) -> 0 | F5: =SUM('Y2 Budget'!F130) -> 0 | G5: =SUM('Y2 Budget'!G130) -> 0 | H5: =SUM('Y2 Budget'!H130) -> 0 | I5: =SUM(C5:H5) -> 0 | K5: =SUM('Y2 Budget'!K130) -> 0 | M5: =SUM('Y2 Budget'!M130) -> 0 | N5: =SUM('Y2 Budget'!N130) -> 0 | O5: =SUM('Y2 Budget'!O130) -> 0 | P5: =SUM(M5:O5) -> 0
A6: Strategies and Programs | D6: =SUM('Y2 Budget'!D131) -> 0 | E6: =SUM('Y2 Budget'!E131) -> 0 | F6: =SUM('Y2 Budget'!F131) -> 0 | G6: =SUM('Y2 Budget'!G131) -> 0 | H6: =SUM('Y2 Budget'!H131) -> 0 | I6: =SUM(C6:H6) -> 0 | K6: =SUM('Y2 Budget'!K131) -> 0 | M6: =SUM('Y2 Budget'!M131) -> 0 | N6: =SUM('Y2 Budget'!N131) -> 0 | O6: =SUM('Y2 Budget'!O131) -> 0 | P6: =SUM(M6:O6) -> 0
A7: Coalition/Community Training | D7: =SUM('Y2 Budget'!D132) -> 0 | E7: =SUM('Y2 Budget'!E132) -> 0 | F7: =SUM('Y2 Budget'!F132) -> 0 | G7: =SUM('Y2 Budget'!G132) -> 0 | H7: =SUM('Y2 Budget'!H132) -> 0 | I7: =SUM(C7:H7) -> 0 | K7: =SUM('Y2 Budget'!K132) -> 0 | M7: =SUM('Y2 Budget'!M132) -> 0 | N7: =SUM('Y2 Budget'!N132) -> 0 | O7: =SUM('Y2 Budget'!O132) -> 0 | P7: =SUM(M7:O7) -> 0
A8: YEAR 2 TOTALS | D8: =SUM(D3:D7) -> 0 | E8: =SUM(E3:E7) -> 0 | F8: =SUM(F3:F7) -> 0 | G8: =SUM(G3:G7) -> 0 | H8: =SUM(H3:H7) -> 0 | I8: =SUM(C8:H8) -> 0 | K8: =SUM(K3:K7) -> 0 | M8: =SUM(M3:M7) -> 0 | N8: =SUM(N3:N7) -> 0 | O8: =SUM(O3:O7) -> 0 | P8: =SUM(M8:O8) -> 0

Sheet Funding Sources
B2: Y1: July 1, 2025 - June 30, 2026 | F2: Y2: July 1, 2026 - June 30, 2027
C4: Available Funding Sources, Across CPWI | G4: Available Funding Sources, Across CPWI
A5: State | B5: (Jul 1-Jun 30) | C5: General Fund State - State (GFS) | E5: State | F5: (Jul 1-Jun 30) | G5: General Fund State - State (GFS)
A6: Federal | B6: (Jul 1-Sept 30) | C6: Substance Use Prevention Treatment Recovery Services Carryover (previously SABG) - Federal (SUPTRS CO) | E6: State | F6: (Jul 1-Jun 30) | G6: Dedicated Cannabis Account - 315 - XZA - State (DCA - 315 - XZA)
A7: Federal | B7: (Jul 1-Jun 30) | C7: Substance Use Prevention Treatment Recovery Services (previously SABG) - Federal (SUPTRS) | E7: State | F7: (Jul 1-Jun 30) | G7: Dedicated Cannabis Account - 315 - Base - State (DCA - 315 - Base)
A8: Federal | B8: (Jul 1-Sept 29) | C8: American Rescue Plan Act - Federal (ARPA) | E8: Federal | F8: (Jul 1-Jun 30) | G8: Opioid Settlement Funds - 27W - RMA2 - State (OSF - 27W - RMA2)
A9: State | B9: (Jul 1-Jun 30) | C9: Dedicated Cannabis Account - State (DCA) | E9: Federal | F9: (Jul 1-Jun 30) | G9: Opioid Settlement Funds - 27W - XZA - State (OSF - 27W - XZA)
A10: State | B10: (Jul 1-Jun 30) | C10: Opioid Settlement Funds - State (OSF) | E10: Federal | F10: (Jul 1-Jun 30) | G10: Opioid Settlement Funds - 27W - DS9A- State (OSF - 27W - DS9A)
A11: Federal | B11: (July 1-Sept29, 2025) | C11: Partnership for Success Y1 Carryover - Federal (PFS Y1 CO) | E11: Federal | F11: (Jul1-Sept30) | G11: Substance Use Prevention Treatment Recovery Services Carryover (previously SABG) - Federal (SUPTRS CO)
E12: Federal | F12: (Jul 1-Jun 30) | G12: Substance Use Prevention Treatment Recovery Services (previously SABG) - Federal (SUPTRS)
A13: Federal | B13: (July 1-Sept29, 2025) | C13: Partnership for Success Y2 - Federal (PFS Y2) | E13: Federal | F13: (July 1- Sept 29) | G13: State Opioid Response IV Y2 - State (SOR IV Y2)
A14: Federal | B14: (Sept 30-Jun 30, 2026) | C14: Partnership for Success Y3 - Federal (PFS Y3) | E14: Federal | F14: (July 1- Sept 29) | G14: State Opioid Response IV Y1 Carryover - State (SOR IV Y1 CO)
E15: Federal | F15: (Sept 30-Jun 30) | G15: State Opioid Response IV Y3 - State (SOR IV Y3)
A16: Federal | B16: (July 1-Sept29, 2025) | C16: State Opioid Response IV Y1 - State (SOR IV Y1) | E16: Federal | F16: (July 1- Sept 29) | G16: Partnership for Success Y3 - Federal (PFS Y3)
A17: Federal | B17: (Sept 30-Jun 30, 2026) | C17: State Opioid Response IV Y2 - State (SOR IV Y2) | E17: Federal | F17: (July 1- Sept 29) | G17: Partnership for Success Y2 Carryover - Federal (PFS Y2 CO)
E18: Federal | F18: (Sept 30-Jun 30) | G18: Partnership for Success Y4 - Federal (PFS Y4)
